BEGIN:VCALENDAR
VERSION:2.0
PRODID:-//CERN//INDICO//EN
BEGIN:VEVENT
SUMMARY:INVEST Summer Get Together
DTSTART:20260608T060000Z
DTEND:20260608T130000Z
DTSTAMP:20260421T091600Z
UID:indico-event-229@eve.utu.fi
CONTACT:annimer@utu.fi
DESCRIPTION:Join us for a relaxing day as we kick off the summer together!
  The event is for INVEST staff and current fellowship visitors in Turku.\n
 Date: Monday 8th June\, 2026\nLocation: Paimio Sanatorium\, Alvar Aallon t
 ie 275\, 21540 Paimio\nProgramme: \n9.00 We hop on a bus at the Publicum 
 parking lot (or you can come by car)\n9.30 Coffee and a bite to eat at the
  Sanatorium\n10.00 Programme starts\n11.30 Lunch\n13.00 Guided tours and f
 orest walks in groups\n15.30 Departing to Turku by bus (or your own car)\n
 \nhttps://eve.utu.fi/event/229/
LOCATION:Paimio Sanatorium
URL:https://eve.utu.fi/event/229/
END:VEVENT
END:VCALENDAR
