BEGIN:VCALENDAR
VERSION:2.0
PRODID:-//CERN//INDICO//EN
BEGIN:VEVENT
SUMMARY:Tiedusteluhistorian iltapäivä
DTSTART:20260427T100000Z
DTEND:20260427T130000Z
DTSTAMP:20260421T085600Z
UID:indico-event-162@eve.utu.fi
DESCRIPTION:https://eve.utu.fi/event/162/
LOCATION:Pub126 (Turun yliopisto\, Publicum)
URL:https://eve.utu.fi/event/162/
END:VEVENT
END:VCALENDAR
